Workbook

Sheet Данные
A1: =[1]Ответы!B1 -> Пол | B1: =[1]Ответы!C1 -> Возраст | C1: =[1]Ответы!E1 -> Профиль | D1: ='[1]Отношениек IТ'!AU1 -> Отношение к цифровизации 1 | E1: ='[1]Отношениек IТ'!AV1 -> Отношение к цифровизации 2 | F1: ='[1]Отношениек IТ'!AW1 -> Отношение к цифровизации 3 | G1: ='[1]Отношениек IТ'!AX1 -> Отношение к цифровизации 4 | H1: ='[1]Отношениек IТ'!AY1 -> Отношение к цифровизации 5 | I1: ='[1]Доверие к ИИ'!Z1 -> Положительное отношение к ИИ 1 | J1: ='[1]Доверие к ИИ'!AA1 -> Положительное отношение к ИИ 2 | K1: ='[1]Доверие к ИИ'!AB1 -> Положительное отношение к ИИ 3 | L1: ='[1]Доверие к ИИ'!AC1 -> Готовность использовать ИИ | M1: ='[1]Доверие к ИИ'!AD1 -> Доверие к ИИ | N1: ='[1]Доверие к ИИ'!AE1 -> Безопасность ИИ | O1: ='[1]Доверие к ИИ'!AF1 -> Комфорт ИИ | P1: ='[1]Шкала к ИИ'!H1 -> Шкала общего отношения | Q1: ='[1]Псих благополучие 1'!FN1 -> Позитивные отношения | R1: ='[1]Псих благополучие 1'!FO1 -> Автономия | S1: ='[1]Псих благополучие 1'!FP1 -> Управление средой | T1: ='[1]Псих благополучие 1'!FQ1 -> Личностный рост | U1: ='[1]Псих благополучие 1'!FR1 -> Цели жизни | V1: ='[1]Псих благополучие 1'!FS1 -> Самопринятие | W1: ='[1]Псих благополучие 1'!FT1 -> Псих благополучие | X1: ='[1]Псих благополучие 2'!Y1 -> Позитивные эмоции | Y1: ='[1]Псих благополучие 2'!Z1 -> Вовлеченность | Z1: ='[1]Псих благополучие 2'!AA1 -> Взаимоотношения | AA1: ='[1]Псих благополучие 2'!AB1 -> Смысл | AB1: ='[1]Псих благополучие 2'!AC1 -> Достижения | AC1: ='[1]Псих благополучие 2'!AD1 -> Счастье | AD1: ='[1]Псих благополучие 2'!AE1 -> Общий показатель благополучия PERMA | AE1: ='[1]Псих благополучие 2'!AF1 -> Негативные эмоции | ... AG1: ='[1]Псих благополучие 2'!AH1 -> Одиночество
A2: 1 | B2: =[1]Ответы!C2 -> 18 | C2: 1 | D2: ='[1]Отношениек IТ'!AU2 -> 18 | E2: ='[1]Отношениек IТ'!AV2 -> 14 | F2: ='[1]Отношениек IТ'!AW2 -> 3 | G2: ='[1]Отношениек IТ'!AX2 -> 13 | H2: ='[1]Отношениек IТ'!AY2 -> 6 | I2: ='[1]Доверие к ИИ'!Z2 -> 30 | J2: ='[1]Доверие к ИИ'!AA2 -> 27 | K2: ='[1]Доверие к ИИ'!AB2 -> 33 | L2: ='[1]Доверие к ИИ'!AC2 -> 25 | M2: ='[1]Доверие к ИИ'!AD2 -> 23 | N2: ='[1]Доверие к ИИ'!AE2 -> 21 | O2: ='[1]Доверие к ИИ'!AF2 -> 21 | P2: ='[1]Шкала к ИИ'!H2 -> 34 | Q2: ='[1]Псих благополучие 1'!FN2 -> 43 | R2: ='[1]Псих благополучие 1'!FO2 -> 47 | S2: ='[1]Псих благополучие 1'!FP2 -> 51 | T2: ='[1]Псих благополучие 1'!FQ2 -> 54 | U2: ='[1]Псих благополучие 1'!FR2 -> 48 | V2: ='[1]Псих благополучие 1'!FS2 -> 52 | W2: ='[1]Псих благополучие 1'!FT2 -> 295 | X2: ='[1]Псих благополучие 2'!Y2 -> 7.3333333 | Y2: ='[1]Псих благополучие 2'!Z2 -> 5.6666667 | Z2: ='[1]Псих благополучие 2'!AA2 -> 4.6666667 | AA2: ='[1]Псих благополучие 2'!AB2 -> 7.6666667 | AB2: ='[1]Псих благополучие 2'!AC2 -> 7.3333333 | AC2: ='[1]Псих благополучие 2'!AD2 -> 10 | AD2: ='[1]Псих благополучие 2'!AE2 -> 6.75 | AE2: ='[1]Псих благополучие 2'!AF2 -> 7 | ... AG2: ='[1]Псих благополучие 2'!AH2 -> 3
A3: 1 | B3: =[1]Ответы!C3 -> 18 | C3: 1 | D3: ='[1]Отношениек IТ'!AU3 -> 15 | E3: ='[1]Отношениек IТ'!AV3 -> 17 | F3: ='[1]Отношениек IТ'!AW3 -> 4 | G3: ='[1]Отношениек IТ'!AX3 -> 20 | H3: ='[1]Отношениек IТ'!AY3 -> 15 | I3: ='[1]Доверие к ИИ'!Z3 -> 39 | J3: ='[1]Доверие к ИИ'!AA3 -> 52 | K3: ='[1]Доверие к ИИ'!AB3 -> 34 | L3: ='[1]Доверие к ИИ'!AC3 -> 36 | M3: ='[1]Доверие к ИИ'!AD3 -> 32 | N3: ='[1]Доверие к ИИ'!AE3 -> 30 | O3: ='[1]Доверие к ИИ'!AF3 -> 27 | P3: ='[1]Шкала к ИИ'!H3 -> 34 | Q3: ='[1]Псих благополучие 1'!FN3 -> 56 | R3: ='[1]Псих благополучие 1'!FO3 -> 49 | S3: ='[1]Псих благополучие 1'!FP3 -> 54 | T3: ='[1]Псих благополучие 1'!FQ3 -> 58 | U3: ='[1]Псих благополучие 1'!FR3 -> 49 | V3: ='[1]Псих благополучие 1'!FS3 -> 50 | W3: ='[1]Псих благополучие 1'!FT3 -> 316 | X3: ='[1]Псих благополучие 2'!Y3 -> 5 | Y3: ='[1]Псих благополучие 2'!Z3 -> 7.6666667 | Z3: ='[1]Псих благополучие 2'!AA3 -> 9 | AA3: ='[1]Псих благополучие 2'!AB3 -> 8 | AB3: ='[1]Псих благополучие 2'!AC3 -> 7.3333333 | AC3: ='[1]Псих благополучие 2'!AD3 -> 5 | AD3: ='[1]Псих благополучие 2'!AE3 -> 7.25 | AE3: ='[1]Псих благополучие 2'!AF3 -> 5.3333333 | ... AG3: ='[1]Псих благополучие 2'!AH3 -> 5
A4: 1 | B4: =[1]Ответы!C4 -> 17 | C4: 1 | D4: ='[1]Отношениек IТ'!AU4 -> 24 | E4: ='[1]Отношениек IТ'!AV4 -> 23 | F4: ='[1]Отношениек IТ'!AW4 -> 4 | G4: ='[1]Отношениек IТ'!AX4 -> 20 | H4: ='[1]Отношениек IТ'!AY4 -> 15 | I4: ='[1]Доверие к ИИ'!Z4 -> 29 | J4: ='[1]Доверие к ИИ'!AA4 -> 29 | K4: ='[1]Доверие к ИИ'!AB4 -> 38 | L4: ='[1]Доверие к ИИ'!AC4 -> 26 | M4: ='[1]Доверие к ИИ'!AD4 -> 29 | N4: ='[1]Доверие к ИИ'!AE4 -> 18 | O4: ='[1]Доверие к ИИ'!AF4 -> 23 | P4: ='[1]Шкала к ИИ'!H4 -> 44 | Q4: ='[1]Псих благополучие 1'!FN4 -> 53 | R4: ='[1]Псих благополучие 1'!FO4 -> 51 | S4: ='[1]Псих благополучие 1'!FP4 -> 58 | T4: ='[1]Псих благополучие 1'!FQ4 -> 56 | U4: ='[1]Псих благополучие 1'!FR4 -> 54 | V4: ='[1]Псих благополучие 1'!FS4 -> 53 | W4: ='[1]Псих благополучие 1'!FT4 -> 325 | X4: ='[1]Псих благополучие 2'!Y4 -> 8.6666667 | Y4: ='[1]Псих благополучие 2'!Z4 -> 8.6666667 | Z4: ='[1]Псих благополучие 2'!AA4 -> 10 | AA4: ='[1]Псих благополучие 2'!AB4 -> 8.6666667 | AB4: ='[1]Псих благополучие 2'!AC4 -> 9.3333333 | AC4: ='[1]Псих благополучие 2'!AD4 -> 7 | AD4: ='[1]Псих благополучие 2'!AE4 -> 8.9375 | AE4: ='[1]Псих благополучие 2'!AF4 -> 6 | ... AG4: ='[1]Псих благополучие 2'!AH4 -> 4
A5: 2 | B5: =[1]Ответы!C5 -> 19 | C5: 1 | D5: ='[1]Отношениек IТ'!AU5 -> 30 | E5: ='[1]Отношениек IТ'!AV5 -> 30 | F5: ='[1]Отношениек IТ'!AW5 -> 4 | G5: ='[1]Отношениек IТ'!AX5 -> 15 | H5: ='[1]Отношениек IТ'!AY5 -> 20 | I5: ='[1]Доверие к ИИ'!Z5 -> 50 | J5: ='[1]Доверие к ИИ'!AA5 -> 56 | K5: ='[1]Доверие к ИИ'!AB5 -> 32 | L5: ='[1]Доверие к ИИ'!AC5 -> 36 | M5: ='[1]Доверие к ИИ'!AD5 -> 36 | N5: ='[1]Доверие к ИИ'!AE5 -> 30 | O5: ='[1]Доверие к ИИ'!AF5 -> 36 | P5: ='[1]Шкала к ИИ'!H5 -> 50 | Q5: ='[1]Псих благополучие 1'!FN5 -> 55 | R5: ='[1]Псих благополучие 1'!FO5 -> 75 | S5: ='[1]Псих благополучие 1'!FP5 -> 60 | T5: ='[1]Псих благополучие 1'!FQ5 -> 64 | U5: ='[1]Псих благополучие 1'!FR5 -> 62 | V5: ='[1]Псих благополучие 1'!FS5 -> 52 | W5: ='[1]Псих благополучие 1'!FT5 -> 368 | X5: ='[1]Псих благополучие 2'!Y5 -> 8.3333333 | Y5: ='[1]Псих благополучие 2'!Z5 -> 8 | Z5: ='[1]Псих благополучие 2'!AA5 -> 8.6666667 | AA5: ='[1]Псих благополучие 2'!AB5 -> 8.6666667 | AB5: ='[1]Псих благополучие 2'!AC5 -> 8.3333333 | AC5: ='[1]Псих благополучие 2'!AD5 -> 9 | AD5: ='[1]Псих благополучие 2'!AE5 -> 8.4375 | AE5: ='[1]Псих благополучие 2'!AF5 -> 5 | ... AG5: ='[1]Псих благополучие 2'!AH5 -> 1
A6: 1 | B6: =[1]Ответы!C6 -> 20 | C6: 1 | D6: ='[1]Отношениек IТ'!AU6 -> 27 | E6: ='[1]Отношениек IТ'!AV6 -> 30 | F6: ='[1]Отношениек IТ'!AW6 -> 4 | G6: ='[1]Отношениек IТ'!AX6 -> 14 | H6: ='[1]Отношениек IТ'!AY6 -> 16 | I6: ='[1]Доверие к ИИ'!Z6 -> 29 | J6: ='[1]Доверие к ИИ'!AA6 -> 32 | K6: ='[1]Доверие к ИИ'!AB6 -> 41 | L6: ='[1]Доверие к ИИ'!AC6 -> 32 | M6: ='[1]Доверие к ИИ'!AD6 -> 24 | N6: ='[1]Доверие к ИИ'!AE6 -> 22 | O6: ='[1]Доверие к ИИ'!AF6 -> 24 | P6: ='[1]Шкала к ИИ'!H6 -> 35 | Q6: ='[1]Псих благополучие 1'!FN6 -> 65 | R6: ='[1]Псих благополучие 1'!FO6 -> 51 | S6: ='[1]Псих благополучие 1'!FP6 -> 54 | T6: ='[1]Псих благополучие 1'!FQ6 -> 53 | U6: ='[1]Псих благополучие 1'!FR6 -> 54 | V6: ='[1]Псих благополучие 1'!FS6 -> 45 | W6: ='[1]Псих благополучие 1'!FT6 -> 322 | X6: ='[1]Псих благополучие 2'!Y6 -> 7.6666667 | Y6: ='[1]Псих благополучие 2'!Z6 -> 8 | Z6: ='[1]Псих благополучие 2'!AA6 -> 7.6666667 | AA6: ='[1]Псих благополучие 2'!AB6 -> 7.3333333 | AB6: ='[1]Псих благополучие 2'!AC6 -> 7.6666667 | AC6: ='[1]Псих благополучие 2'!AD6 -> 7 | AD6: ='[1]Псих благополучие 2'!AE6 -> 7.625 | AE6: ='[1]Псих благополучие 2'!AF6 -> 6 | ... AG6: ='[1]Псих благополучие 2'!AH6 -> 3
A7: 1 | B7: =[1]Ответы!C7 -> 20 | C7: 1 | D7: ='[1]Отношениек IТ'!AU7 -> 28 | E7: ='[1]Отношениек IТ'!AV7 -> 23 | F7: ='[1]Отношениек IТ'!AW7 -> 2 | G7: ='[1]Отношениек IТ'!AX7 -> 27 | H7: ='[1]Отношениек IТ'!AY7 -> 18 | I7: ='[1]Доверие к ИИ'!Z7 -> 25 | J7: ='[1]Доверие к ИИ'!AA7 -> 32 | K7: ='[1]Доверие к ИИ'!AB7 -> 24 | L7: ='[1]Доверие к ИИ'!AC7 -> 19 | M7: ='[1]Доверие к ИИ'!AD7 -> 21 | N7: ='[1]Доверие к ИИ'!AE7 -> 19 | O7: ='[1]Доверие к ИИ'!AF7 -> 22 | P7: ='[1]Шкала к ИИ'!H7 -> 50 | Q7: ='[1]Псих благополучие 1'!FN7 -> 69 | R7: ='[1]Псих благополучие 1'!FO7 -> 71 | S7: ='[1]Псих благополучие 1'!FP7 -> 52 | T7: ='[1]Псих благополучие 1'!FQ7 -> 71 | U7: ='[1]Псих благополучие 1'!FR7 -> 54 | V7: ='[1]Псих благополучие 1'!FS7 -> 56 | W7: ='[1]Псих благополучие 1'!FT7 -> 373 | X7: ='[1]Псих благополучие 2'!Y7 -> 9 | Y7: ='[1]Псих благополучие 2'!Z7 -> 9 | Z7: ='[1]Псих благополучие 2'!AA7 -> 8.3333333 | AA7: ='[1]Псих благополучие 2'!AB7 -> 8.6666667 | AB7: ='[1]Псих благополучие 2'!AC7 -> 9.6666667 | AC7: ='[1]Псих благополучие 2'!AD7 -> 8 | AD7: ='[1]Псих благополучие 2'!AE7 -> 8.875 | AE7: ='[1]Псих благополучие 2'!AF7 -> 3.3333333 | ... AG7: ='[1]Псих благополучие 2'!AH7 -> 3
A8: 2 | B8: =[1]Ответы!C8 -> 22 | C8: 1 | D8: ='[1]Отношениек IТ'!AU8 -> 26 | E8: ='[1]Отношениек IТ'!AV8 -> 31 | F8: ='[1]Отношениек IТ'!AW8 -> 3 | G8: ='[1]Отношениек IТ'!AX8 -> 13 | H8: ='[1]Отношениек IТ'!AY8 -> 13 | I8: ='[1]Доверие к ИИ'!Z8 -> 14 | J8: ='[1]Доверие к ИИ'!AA8 -> 8 | K8: ='[1]Доверие к ИИ'!AB8 -> 26 | L8: ='[1]Доверие к ИИ'!AC8 -> 7 | M8: ='[1]Доверие к ИИ'!AD8 -> 11 | N8: ='[1]Доверие к ИИ'!AE8 -> 17 | O8: ='[1]Доверие к ИИ'!AF8 -> 13 | P8: ='[1]Шкала к ИИ'!H8 -> 22 | Q8: ='[1]Псих благополучие 1'!FN8 -> 58 | R8: ='[1]Псих благополучие 1'!FO8 -> 63 | S8: ='[1]Псих благополучие 1'!FP8 -> 44 | T8: ='[1]Псих благополучие 1'!FQ8 -> 67 | U8: ='[1]Псих благополучие 1'!FR8 -> 70 | V8: ='[1]Псих благополучие 1'!FS8 -> 55 | W8: ='[1]Псих благополучие 1'!FT8 -> 357 | X8: ='[1]Псих благополучие 2'!Y8 -> 9 | Y8: ='[1]Псих благополучие 2'!Z8 -> 10 | Z8: ='[1]Псих благополучие 2'!AA8 -> 10 | AA8: ='[1]Псих благополучие 2'!AB8 -> 9.6666667 | AB8: ='[1]Псих благополучие 2'!AC8 -> 7.3333333 | AC8: ='[1]Псих благополучие 2'!AD8 -> 10 | AD8: ='[1]Псих благополучие 2'!AE8 -> 9.25 | AE8: ='[1]Псих благополучие 2'!AF8 -> 6 | ... AG8: ='[1]Псих благополучие 2'!AH8 -> 3
A9: 1 | B9: =[1]Ответы!C9 -> 22 | C9: 2 | D9: ='[1]Отношениек IТ'!AU9 -> 30 | E9: ='[1]Отношениек IТ'!AV9 -> 25 | F9: ='[1]Отношениек IТ'!AW9 -> 3 | G9: ='[1]Отношениек IТ'!AX9 -> 18 | H9: ='[1]Отношениек IТ'!AY9 -> 12 | I9: ='[1]Доверие к ИИ'!Z9 -> 28 | J9: ='[1]Доверие к ИИ'!AA9 -> 20 | K9: ='[1]Доверие к ИИ'!AB9 -> 31 | L9: ='[1]Доверие к ИИ'!AC9 -> 21 | M9: ='[1]Доверие к ИИ'!AD9 -> 20 | N9: ='[1]Доверие к ИИ'!AE9 -> 21 | O9: ='[1]Доверие к ИИ'!AF9 -> 17 | P9: ='[1]Шкала к ИИ'!H9 -> 32 | Q9: ='[1]Псих благополучие 1'!FN9 -> 48 | R9: ='[1]Псих благополучие 1'!FO9 -> 48 | S9: ='[1]Псих благополучие 1'!FP9 -> 45 | T9: ='[1]Псих благополучие 1'!FQ9 -> 50 | U9: ='[1]Псих благополучие 1'!FR9 -> 48 | V9: ='[1]Псих благополучие 1'!FS9 -> 40 | W9: ='[1]Псих благополучие 1'!FT9 -> 279 | X9: ='[1]Псих благополучие 2'!Y9 -> 6.3333333 | Y9: ='[1]Псих благополучие 2'!Z9 -> 4 | Z9: ='[1]Псих благополучие 2'!AA9 -> 9 | AA9: ='[1]Псих благополучие 2'!AB9 -> 3.3333333 | AB9: ='[1]Псих благополучие 2'!AC9 -> 5 | AC9: ='[1]Псих благополучие 2'!AD9 -> 6 | AD9: ='[1]Псих благополучие 2'!AE9 -> 5.5625 | AE9: ='[1]Псих благополучие 2'!AF9 -> 6 | ... AG9: ='[1]Псих благополучие 2'!AH9 -> 8
A10: 1 | B10: =[1]Ответы!C10 -> 19 | C10: 2 | D10: ='[1]Отношениек IТ'!AU10 -> 19 | E10: ='[1]Отношениек IТ'!AV10 -> 20 | F10: ='[1]Отношениек IТ'!AW10 -> 3 | G10: ='[1]Отношениек IТ'!AX10 -> 15 | H10: ='[1]Отношениек IТ'!AY10 -> 5 | I10: ='[1]Доверие к ИИ'!Z10 -> 27 | J10: ='[1]Доверие к ИИ'!AA10 -> 35 | K10: ='[1]Доверие к ИИ'!AB10 -> 30 | L10: ='[1]Доверие к ИИ'!AC10 -> 18 | M10: ='[1]Доверие к ИИ'!AD10 -> 26 | N10: ='[1]Доверие к ИИ'!AE10 -> 21 | O10: ='[1]Доверие к ИИ'!AF10 -> 27 | P10: ='[1]Шкала к ИИ'!H10 -> 45 | Q10: ='[1]Псих благополучие 1'!FN10 -> 62 | R10: ='[1]Псих благополучие 1'!FO10 -> 56 | S10: ='[1]Псих благополучие 1'!FP10 -> 53 | T10: ='[1]Псих благополучие 1'!FQ10 -> 60 | U10: ='[1]Псих благополучие 1'!FR10 -> 63 | V10: ='[1]Псих благополучие 1'!FS10 -> 60 | W10: ='[1]Псих благополучие 1'!FT10 -> 354 | X10: ='[1]Псих благополучие 2'!Y10 -> 8.3333333 | Y10: ='[1]Псих благополучие 2'!Z10 -> 6.3333333 | Z10: ='[1]Псих благополучие 2'!AA10 -> 5.6666667 | AA10: ='[1]Псих благополучие 2'!AB10 -> 6.6666667 | AB10: ='[1]Псих благополучие 2'!AC10 -> 7.3333333 | AC10: ='[1]Псих благополучие 2'!AD10 -> 7 | AD10: ='[1]Псих благополучие 2'!AE10 -> 6.875 | AE10: ='[1]Псих благополучие 2'!AF10 -> 5 | ... AG10: ='[1]Псих благополучие 2'!AH10 -> 5
A11: 1 | B11: =[1]Ответы!C11 -> 18 | C11: 1 | D11: ='[1]Отношениек IТ'!AU11 -> 32 | E11: ='[1]Отношениек IТ'!AV11 -> 33 | F11: ='[1]Отношениек IТ'!AW11 -> 4 | G11: ='[1]Отношениек IТ'!AX11 -> 23 | H11: ='[1]Отношениек IТ'!AY11 -> 12 | I11: ='[1]Доверие к ИИ'!Z11 -> 31 | J11: ='[1]Доверие к ИИ'!AA11 -> 31 | K11: ='[1]Доверие к ИИ'!AB11 -> 37 | L11: ='[1]Доверие к ИИ'!AC11 -> 29 | M11: ='[1]Доверие к ИИ'!AD11 -> 26 | N11: ='[1]Доверие к ИИ'!AE11 -> 26 | O11: ='[1]Доверие к ИИ'!AF11 -> 18 | P11: ='[1]Шкала к ИИ'!H11 -> 44 | Q11: ='[1]Псих благополучие 1'!FN11 -> 52 | R11: ='[1]Псих благополучие 1'!FO11 -> 47 | S11: ='[1]Псих благополучие 1'!FP11 -> 48 | T11: ='[1]Псих благополучие 1'!FQ11 -> 44 | U11: ='[1]Псих благополучие 1'!FR11 -> 48 | V11: ='[1]Псих благополучие 1'!FS11 -> 53 | W11: ='[1]Псих благополучие 1'!FT11 -> 292 | X11: ='[1]Псих благополучие 2'!Y11 -> 5.3333333 | Y11: ='[1]Псих благополучие 2'!Z11 -> 5.6666667 | Z11: ='[1]Псих благополучие 2'!AA11 -> 5.3333333 | AA11: ='[1]Псих благополучие 2'!AB11 -> 5.3333333 | AB11: ='[1]Псих благополучие 2'!AC11 -> 5.6666667 | AC11: ='[1]Псих благополучие 2'!AD11 -> 5 | AD11: ='[1]Псих благополучие 2'!AE11 -> 5.4375 | AE11: ='[1]Псих благополучие 2'!AF11 -> 6 | ... AG11: ='[1]Псих благополучие 2'!AH11 -> 5
A12: 1 | B12: =[1]Ответы!C12 -> 18 | C12: 1 | D12: ='[1]Отношениек IТ'!AU12 -> 25 | E12: ='[1]Отношениек IТ'!AV12 -> 31 | F12: ='[1]Отношениек IТ'!AW12 -> 4 | G12: ='[1]Отношениек IТ'!AX12 -> 21 | H12: ='[1]Отношениек IТ'!AY12 -> 8 | I12: ='[1]Доверие к ИИ'!Z12 -> 34 | J12: ='[1]Доверие к ИИ'!AA12 -> 39 | K12: ='[1]Доверие к ИИ'!AB12 -> 44 | L12: ='[1]Доверие к ИИ'!AC12 -> 30 | M12: ='[1]Доверие к ИИ'!AD12 -> 29 | N12: ='[1]Доверие к ИИ'!AE12 -> 29 | O12: ='[1]Доверие к ИИ'!AF12 -> 29 | P12: ='[1]Шкала к ИИ'!H12 -> 37 | Q12: ='[1]Псих благополучие 1'!FN12 -> 69 | R12: ='[1]Псих благополучие 1'!FO12 -> 63 | S12: ='[1]Псих благополучие 1'!FP12 -> 69 | T12: ='[1]Псих благополучие 1'!FQ12 -> 66 | U12: ='[1]Псих благополучие 1'!FR12 -> 63 | V12: ='[1]Псих благополучие 1'!FS12 -> 62 | W12: ='[1]Псих благополучие 1'!FT12 -> 392 | X12: ='[1]Псих благополучие 2'!Y12 -> 5 | Y12: ='[1]Псих благополучие 2'!Z12 -> 5 | Z12: ='[1]Псих благополучие 2'!AA12 -> 5 | AA12: ='[1]Псих благополучие 2'!AB12 -> 5 | AB12: ='[1]Псих благополучие 2'!AC12 -> 5 | AC12: ='[1]Псих благополучие 2'!AD12 -> 5 | AD12: ='[1]Псих благополучие 2'!AE12 -> 5 | AE12: ='[1]Псих благополучие 2'!AF12 -> 5 | ... AG12: ='[1]Псих благополучие 2'!AH12 -> 5
A13: 1 | B13: =[1]Ответы!C13 -> 20 | C13: 1 | D13: ='[1]Отношениек IТ'!AU13 -> 22 | E13: ='[1]Отношениек IТ'!AV13 -> 22 | F13: ='[1]Отношениек IТ'!AW13 -> 3 | G13: ='[1]Отношениек IТ'!AX13 -> 20 | H13: ='[1]Отношениек IТ'!AY13 -> 9 | I13: ='[1]Доверие к ИИ'!Z13 -> 36 | J13: ='[1]Доверие к ИИ'!AA13 -> 42 | K13: ='[1]Доверие к ИИ'!AB13 -> 47 | L13: ='[1]Доверие к ИИ'!AC13 -> 33 | M13: ='[1]Доверие к ИИ'!AD13 -> 35 | N13: ='[1]Доверие к ИИ'!AE13 -> 24 | O13: ='[1]Доверие к ИИ'!AF13 -> 33 | P13: ='[1]Шкала к ИИ'!H13 -> 36 | Q13: ='[1]Псих благополучие 1'!FN13 -> 53 | R13: ='[1]Псих благополучие 1'!FO13 -> 59 | S13: ='[1]Псих благополучие 1'!FP13 -> 57 | T13: ='[1]Псих благополучие 1'!FQ13 -> 53 | U13: ='[1]Псих благополучие 1'!FR13 -> 51 | V13: ='[1]Псих благополучие 1'!FS13 -> 55 | W13: ='[1]Псих благополучие 1'!FT13 -> 328 | X13: ='[1]Псих благополучие 2'!Y13 -> 6.6666667 | Y13: ='[1]Псих благополучие 2'!Z13 -> 10 | Z13: ='[1]Псих благополучие 2'!AA13 -> 9.6666667 | AA13: ='[1]Псих благополучие 2'!AB13 -> 10 | AB13: ='[1]Псих благополучие 2'!AC13 -> 10 | AC13: ='[1]Псих благополучие 2'!AD13 -> 10 | AD13: ='[1]Псих благополучие 2'!AE13 -> 9.3125 | AE13: ='[1]Псих благополучие 2'!AF13 -> 3 | ... AG13: ='[1]Псих благополучие 2'!AH13 -> 10
... A135: 2 | B135: =[1]Ответы!C135 -> 16 | C135: 2 | D135: ='[1]Отношениек IТ'!AU135 -> 23 | E135: ='[1]Отношениек IТ'!AV135 -> 25 | F135: ='[1]Отношениек IТ'!AW135 -> 3 | G135: ='[1]Отношениек IТ'!AX135 -> 28 | H135: ='[1]Отношениек IТ'!AY135 -> 15 | I135: ='[1]Доверие к ИИ'!Z135 -> 20 | J135: ='[1]Доверие к ИИ'!AA135 -> 27 | K135: ='[1]Доверие к ИИ'!AB135 -> 37 | L135: ='[1]Доверие к ИИ'!AC135 -> 17 | M135: ='[1]Доверие к ИИ'!AD135 -> 23 | N135: ='[1]Доверие к ИИ'!AE135 -> 26 | O135: ='[1]Доверие к ИИ'!AF135 -> 18 | P135: ='[1]Шкала к ИИ'!H135 -> 28 | Q135: ='[1]Псих благополучие 1'!FN135 -> 48 | R135: ='[1]Псих благополучие 1'!FO135 -> 54 | S135: ='[1]Псих благополучие 1'!FP135 -> 55 | T135: ='[1]Псих благополучие 1'!FQ135 -> 48 | U135: ='[1]Псих благополучие 1'!FR135 -> 50 | V135: ='[1]Псих благополучие 1'!FS135 -> 48 | W135: ='[1]Псих благополучие 1'!FT135 -> 303 | X135: ='[1]Псих благополучие 2'!Y135 -> 4.3333333 | Y135: ='[1]Псих благополучие 2'!Z135 -> 2.6666667 | Z135: ='[1]Псих благополучие 2'!AA135 -> 6 | AA135: ='[1]Псих благополучие 2'!AB135 -> 5.3333333 | AB135: ='[1]Псих благополучие 2'!AC135 -> 3.3333333 | AC135: ='[1]Псих благополучие 2'!AD135 -> 5 | AD135: ='[1]Псих благополучие 2'!AE135 -> 4.375 | AE135: ='[1]Псих благополучие 2'!AF135 -> 4 | ... AG135: ='[1]Псих благополучие 2'!AH135 -> 3
A136: 2 | B136: =[1]Ответы!C136 -> 16 | C136: 2 | D136: ='[1]Отношениек IТ'!AU136 -> 21 | E136: 0 | F136: ='[1]Отношениек IТ'!AW136 -> 0 | G136: ='[1]Отношениек IТ'!AX136 -> 14 | H136: ='[1]Отношениек IТ'!AY136 -> 13 | I136: ='[1]Доверие к ИИ'!Z136 -> 18 | J136: ='[1]Доверие к ИИ'!AA136 -> 27 | K136: ='[1]Доверие к ИИ'!AB136 -> 43 | L136: ='[1]Доверие к ИИ'!AC136 -> 22 | M136: ='[1]Доверие к ИИ'!AD136 -> 22 | N136: ='[1]Доверие к ИИ'!AE136 -> 26 | O136: ='[1]Доверие к ИИ'!AF136 -> 18 | P136: ='[1]Шкала к ИИ'!H136 -> 33 | Q136: ='[1]Псих благополучие 1'!FN136 -> 54 | R136: ='[1]Псих благополучие 1'!FO136 -> 51 | S136: ='[1]Псих благополучие 1'!FP136 -> 51 | T136: ='[1]Псих благополучие 1'!FQ136 -> 60 | U136: ='[1]Псих благополучие 1'!FR136 -> 61 | V136: ='[1]Псих благополучие 1'!FS136 -> 56 | W136: ='[1]Псих благополучие 1'!FT136 -> 333 | X136: ='[1]Псих благополучие 2'!Y136 -> 8.3333333 | Y136: ='[1]Псих благополучие 2'!Z136 -> 7.6666667 | Z136: ='[1]Псих благополучие 2'!AA136 -> 6 | AA136: ='[1]Псих благополучие 2'!AB136 -> 6.6666667 | AB136: ='[1]Псих благополучие 2'!AC136 -> 8.6666667 | AC136: ='[1]Псих благополучие 2'!AD136 -> 7 | AD136: ='[1]Псих благополучие 2'!AE136 -> 7.4375 | AE136: ='[1]Псих благополучие 2'!AF136 -> 4 | ... AG136: ='[1]Псих благополучие 2'!AH136 -> 1
A137: 2 | B137: =[1]Ответы!C137 -> 17 | C137: 2 | D137: ='[1]Отношениек IТ'!AU137 -> 24 | E137: ='[1]Отношениек IТ'!AV137 -> 26 | F137: ='[1]Отношениек IТ'!AW137 -> 4 | G137: ='[1]Отношениек IТ'!AX137 -> 19 | H137: ='[1]Отношениек IТ'!AY137 -> 13 | I137: ='[1]Доверие к ИИ'!Z137 -> 24 | J137: ='[1]Доверие к ИИ'!AA137 -> 33 | K137: ='[1]Доверие к ИИ'!AB137 -> 39 | L137: ='[1]Доверие к ИИ'!AC137 -> 27 | M137: ='[1]Доверие к ИИ'!AD137 -> 24 | N137: ='[1]Доверие к ИИ'!AE137 -> 26 | O137: ='[1]Доверие к ИИ'!AF137 -> 19 | P137: ='[1]Шкала к ИИ'!H137 -> 36 | Q137: ='[1]Псих благополучие 1'!FN137 -> 73 | R137: ='[1]Псих благополучие 1'!FO137 -> 59 | S137: ='[1]Псих благополучие 1'!FP137 -> 57 | T137: ='[1]Псих благополучие 1'!FQ137 -> 61 | U137: ='[1]Псих благополучие 1'!FR137 -> 64 | V137: ='[1]Псих благополучие 1'!FS137 -> 66 | W137: ='[1]Псих благополучие 1'!FT137 -> 380 | X137: ='[1]Псих благополучие 2'!Y137 -> 8.6666667 | Y137: ='[1]Псих благополучие 2'!Z137 -> 8 | Z137: ='[1]Псих благополучие 2'!AA137 -> 7.6666667 | AA137: ='[1]Псих благополучие 2'!AB137 -> 8.6666667 | AB137: ='[1]Псих благополучие 2'!AC137 -> 8 | AC137: ='[1]Псих благополучие 2'!AD137 -> 10 | AD137: ='[1]Псих благополучие 2'!AE137 -> 8.3125 | AE137: ='[1]Псих благополучие 2'!AF137 -> 3 | ... AG137: ='[1]Псих благополучие 2'!AH137 -> 2
A138: 2 | B138: =[1]Ответы!C138 -> 17 | C138: 2 | D138: ='[1]Отношениек IТ'!AU138 -> 33 | E138: ='[1]Отношениек IТ'!AV138 -> 0 | F138: ='[1]Отношениек IТ'!AW138 -> 3 | G138: ='[1]Отношениек IТ'!AX138 -> 0 | H138: ='[1]Отношениек IТ'!AY138 -> 0 | I138: ='[1]Доверие к ИИ'!Z138 -> 28 | J138: ='[1]Доверие к ИИ'!AA138 -> 22 | K138: ='[1]Доверие к ИИ'!AB138 -> 49 | L138: ='[1]Доверие к ИИ'!AC138 -> 25 | M138: ='[1]Доверие к ИИ'!AD138 -> 27 | N138: ='[1]Доверие к ИИ'!AE138 -> 25 | O138: ='[1]Доверие к ИИ'!AF138 -> 22 | P138: ='[1]Шкала к ИИ'!H138 -> 38 | Q138: ='[1]Псих благополучие 1'!FN138 -> 82 | R138: ='[1]Псих благополучие 1'!FO138 -> 75 | S138: ='[1]Псих благополучие 1'!FP138 -> 79 | T138: ='[1]Псих благополучие 1'!FQ138 -> 79 | U138: ='[1]Псих благополучие 1'!FR138 -> 75 | V138: ='[1]Псих благополучие 1'!FS138 -> 76 | W138: ='[1]Псих благополучие 1'!FT138 -> 466 | X138: ='[1]Псих благополучие 2'!Y138 -> 10 | Y138: ='[1]Псих благополучие 2'!Z138 -> 8 | Z138: ='[1]Псих благополучие 2'!AA138 -> 10 | AA138: ='[1]Псих благополучие 2'!AB138 -> 10 | AB138: ='[1]Псих благополучие 2'!AC138 -> 10 | AC138: ='[1]Псих благополучие 2'!AD138 -> 10 | AD138: ='[1]Псих благополучие 2'!AE138 -> 9.625 | AE138: ='[1]Псих благополучие 2'!AF138 -> 3.3333333 | ... AG138: ='[1]Псих благополучие 2'!AH138 -> 0
A139: 2 | B139: =[1]Ответы!C139 -> 17 | C139: 2 | D139: ='[1]Отношениек IТ'!AU139 -> 7 | E139: ='[1]Отношениек IТ'!AV139 -> 19 | F139: ='[1]Отношениек IТ'!AW139 -> 3 | G139: ='[1]Отношениек IТ'!AX139 -> 18 | H139: ='[1]Отношениек IТ'!AY139 -> 3 | I139: ='[1]Доверие к ИИ'!Z139 -> 22 | J139: ='[1]Доверие к ИИ'!AA139 -> 15 | K139: ='[1]Доверие к ИИ'!AB139 -> 13 | L139: ='[1]Доверие к ИИ'!AC139 -> 12 | M139: ='[1]Доверие к ИИ'!AD139 -> 9 | N139: ='[1]Доверие к ИИ'!AE139 -> 15 | O139: ='[1]Доверие к ИИ'!AF139 -> 14 | P139: ='[1]Шкала к ИИ'!H139 -> 15 | Q139: ='[1]Псих благополучие 1'!FN139 -> 62 | R139: ='[1]Псих благополучие 1'!FO139 -> 55 | S139: ='[1]Псих благополучие 1'!FP139 -> 63 | T139: ='[1]Псих благополучие 1'!FQ139 -> 64 | U139: ='[1]Псих благополучие 1'!FR139 -> 65 | V139: ='[1]Псих благополучие 1'!FS139 -> 65 | W139: ='[1]Псих благополучие 1'!FT139 -> 374 | X139: ='[1]Псих благополучие 2'!Y139 -> 4.6666667 | Y139: ='[1]Псих благополучие 2'!Z139 -> 4.6666667 | Z139: ='[1]Псих благополучие 2'!AA139 -> 5.6666667 | AA139: ='[1]Псих благополучие 2'!AB139 -> 5 | AB139: ='[1]Псих благополучие 2'!AC139 -> 4 | AC139: ='[1]Псих благополучие 2'!AD139 -> 4 | AD139: ='[1]Псих благополучие 2'!AE139 -> 4.75 | AE139: ='[1]Псих благополучие 2'!AF139 -> 4.3333333 | ... AG139: ='[1]Псих благополучие 2'!AH139 -> 7
A140: 2 | B140: =[1]Ответы!C140 -> 16 | C140: 2 | D140: ='[1]Отношениек IТ'!AU140 -> 25 | E140: ='[1]Отношениек IТ'!AV140 -> 27 | F140: ='[1]Отношениек IТ'!AW140 -> 2 | G140: ='[1]Отношениек IТ'!AX140 -> 8 | H140: ='[1]Отношениек IТ'!AY140 -> 4 | I140: ='[1]Доверие к ИИ'!Z140 -> 16 | J140: ='[1]Доверие к ИИ'!AA140 -> 21 | K140: ='[1]Доверие к ИИ'!AB140 -> 28 | L140: ='[1]Доверие к ИИ'!AC140 -> 16 | M140: ='[1]Доверие к ИИ'!AD140 -> 18 | N140: ='[1]Доверие к ИИ'!AE140 -> 16 | O140: ='[1]Доверие к ИИ'!AF140 -> 15 | P140: ='[1]Шкала к ИИ'!H140 -> 19 | Q140: ='[1]Псих благополучие 1'!FN140 -> 70 | R140: ='[1]Псих благополучие 1'!FO140 -> 54 | S140: ='[1]Псих благополучие 1'!FP140 -> 64 | T140: ='[1]Псих благополучие 1'!FQ140 -> 60 | U140: ='[1]Псих благополучие 1'!FR140 -> 60 | V140: ='[1]Псих благополучие 1'!FS140 -> 54 | W140: ='[1]Псих благополучие 1'!FT140 -> 362 | X140: ='[1]Псих благополучие 2'!Y140 -> 9 | Y140: ='[1]Псих благополучие 2'!Z140 -> 7 | Z140: ='[1]Псих благополучие 2'!AA140 -> 10 | AA140: ='[1]Псих благополучие 2'!AB140 -> 8.3333333 | AB140: ='[1]Псих благополучие 2'!AC140 -> 6 | AC140: ='[1]Псих благополучие 2'!AD140 -> 8 | AD140: ='[1]Псих благополучие 2'!AE140 -> 8.0625 | AE140: ='[1]Псих благополучие 2'!AF140 -> 1.3333333 | ... AG140: ='[1]Псих благополучие 2'!AH140 -> 0
A141: 2 | B141: =[1]Ответы!C141 -> 16 | C141: 2 | D141: ='[1]Отношениек IТ'!AU141 -> 22 | E141: ='[1]Отношениек IТ'!AV141 -> 25 | F141: ='[1]Отношениек IТ'!AW141 -> 2 | G141: ='[1]Отношениек IТ'!AX141 -> 23 | H141: ='[1]Отношениек IТ'!AY141 -> 16 | I141: ='[1]Доверие к ИИ'!Z141 -> 26 | J141: ='[1]Доверие к ИИ'!AA141 -> 16 | K141: ='[1]Доверие к ИИ'!AB141 -> 17 | L141: ='[1]Доверие к ИИ'!AC141 -> 22 | M141: ='[1]Доверие к ИИ'!AD141 -> 13 | N141: ='[1]Доверие к ИИ'!AE141 -> 15 | O141: ='[1]Доверие к ИИ'!AF141 -> 9 | P141: ='[1]Шкала к ИИ'!H141 -> 30 | Q141: ='[1]Псих благополучие 1'!FN141 -> 62 | R141: ='[1]Псих благополучие 1'!FO141 -> 44 | S141: ='[1]Псих благополучие 1'!FP141 -> 39 | T141: ='[1]Псих благополучие 1'!FQ141 -> 41 | U141: ='[1]Псих благополучие 1'!FR141 -> 59 | V141: ='[1]Псих благополучие 1'!FS141 -> 50 | W141: ='[1]Псих благополучие 1'!FT141 -> 295 | X141: ='[1]Псих благополучие 2'!Y141 -> 6.6666667 | Y141: ='[1]Псих благополучие 2'!Z141 -> 9.6666667 | Z141: ='[1]Псих благополучие 2'!AA141 -> 8.3333333 | AA141: ='[1]Псих благополучие 2'!AB141 -> 6.3333333 | AB141: ='[1]Псих благополучие 2'!AC141 -> 6 | AC141: ='[1]Псих благополучие 2'!AD141 -> 5 | AD141: ='[1]Псих благополучие 2'!AE141 -> 7.25 | AE141: ='[1]Псих благополучие 2'!AF141 -> 7 | ... AG141: ='[1]Псих благополучие 2'!AH141 -> 4
A142: 2 | B142: =[1]Ответы!C142 -> 18 | C142: 2 | D142: ='[1]Отношениек IТ'!AU142 -> 21 | E142: ='[1]Отношениек IТ'!AV142 -> 15 | F142: ='[1]Отношениек IТ'!AW142 -> 0 | G142: ='[1]Отношениек IТ'!AX142 -> 20 | H142: ='[1]Отношениек IТ'!AY142 -> 10 | I142: ='[1]Доверие к ИИ'!Z142 -> 24 | J142: ='[1]Доверие к ИИ'!AA142 -> 23 | K142: ='[1]Доверие к ИИ'!AB142 -> 27 | L142: ='[1]Доверие к ИИ'!AC142 -> 14 | M142: ='[1]Доверие к ИИ'!AD142 -> 19 | N142: ='[1]Доверие к ИИ'!AE142 -> 29 | O142: ='[1]Доверие к ИИ'!AF142 -> 12 | P142: ='[1]Шкала к ИИ'!H142 -> 28 | Q142: ='[1]Псих благополучие 1'!FN142 -> 58 | R142: ='[1]Псих благополучие 1'!FO142 -> 64 | S142: ='[1]Псих благополучие 1'!FP142 -> 59 | T142: ='[1]Псих благополучие 1'!FQ142 -> 68 | U142: ='[1]Псих благополучие 1'!FR142 -> 68 | V142: ='[1]Псих благополучие 1'!FS142 -> 60 | W142: ='[1]Псих благополучие 1'!FT142 -> 377 | X142: ='[1]Псих благополучие 2'!Y142 -> 10 | Y142: ='[1]Псих благополучие 2'!Z142 -> 6.6666667 | Z142: ='[1]Псих благополучие 2'!AA142 -> 10 | AA142: ='[1]Псих благополучие 2'!AB142 -> 10 | AB142: ='[1]Псих благополучие 2'!AC142 -> 8.6666667 | AC142: ='[1]Псих благополучие 2'!AD142 -> 10 | AD142: ='[1]Псих благополучие 2'!AE142 -> 9.125 | AE142: ='[1]Псих благополучие 2'!AF142 -> 1.3333333 | ... AG142: ='[1]Псих благополучие 2'!AH142 -> 0
A143: 2 | B143: =[1]Ответы!C143 -> 16 | C143: 2 | D143: ='[1]Отношениек IТ'!AU143 -> 14 | E143: ='[1]Отношениек IТ'!AV143 -> 21 | F143: ='[1]Отношениек IТ'!AW143 -> 4 | G143: ='[1]Отношениек IТ'!AX143 -> 14 | H143: ='[1]Отношениек IТ'!AY143 -> 14 | I143: ='[1]Доверие к ИИ'!Z143 -> 31 | J143: ='[1]Доверие к ИИ'!AA143 -> 27 | K143: ='[1]Доверие к ИИ'!AB143 -> 19 | L143: ='[1]Доверие к ИИ'!AC143 -> 19 | M143: ='[1]Доверие к ИИ'!AD143 -> 21 | N143: ='[1]Доверие к ИИ'!AE143 -> 20 | O143: ='[1]Доверие к ИИ'!AF143 -> 17 | P143: ='[1]Шкала к ИИ'!H143 -> 29 | Q143: ='[1]Псих благополучие 1'!FN143 -> 61 | R143: ='[1]Псих благополучие 1'!FO143 -> 61 | S143: ='[1]Псих благополучие 1'!FP143 -> 50 | T143: ='[1]Псих благополучие 1'!FQ143 -> 60 | U143: ='[1]Псих благополучие 1'!FR143 -> 65 | V143: ='[1]Псих благополучие 1'!FS143 -> 71 | W143: ='[1]Псих благополучие 1'!FT143 -> 368 | X143: ='[1]Псих благополучие 2'!Y143 -> 3 | Y143: ='[1]Псих благополучие 2'!Z143 -> 4.3333333 | Z143: ='[1]Псих благополучие 2'!AA143 -> 5.3333333 | AA143: ='[1]Псих благополучие 2'!AB143 -> 7.3333333 | AB143: ='[1]Псих благополучие 2'!AC143 -> 6 | AC143: ='[1]Псих благополучие 2'!AD143 -> 5 | AD143: ='[1]Псих благополучие 2'!AE143 -> 5.1875 | AE143: ='[1]Псих благополучие 2'!AF143 -> 5 | ... AG143: ='[1]Псих благополучие 2'!AH143 -> 6
A144: 2 | B144: =[1]Ответы!C144 -> 17 | C144: 2 | D144: ='[1]Отношениек IТ'!AU144 -> 27 | E144: ='[1]Отношениек IТ'!AV144 -> 2 | F144: ='[1]Отношениек IТ'!AW144 -> 3 | G144: ='[1]Отношениек IТ'!AX144 -> 21 | H144: ='[1]Отношениек IТ'!AY144 -> 13 | I144: ='[1]Доверие к ИИ'!Z144 -> 14 | J144: ='[1]Доверие к ИИ'!AA144 -> 12 | K144: ='[1]Доверие к ИИ'!AB144 -> 18 | L144: ='[1]Доверие к ИИ'!AC144 -> 8 | M144: ='[1]Доверие к ИИ'!AD144 -> 9 | N144: ='[1]Доверие к ИИ'!AE144 -> 15 | O144: ='[1]Доверие к ИИ'!AF144 -> 12 | P144: ='[1]Шкала к ИИ'!H144 -> 16 | Q144: ='[1]Псих благополучие 1'!FN144 -> 65 | R144: ='[1]Псих благополучие 1'!FO144 -> 58 | S144: ='[1]Псих благополучие 1'!FP144 -> 63 | T144: ='[1]Псих благополучие 1'!FQ144 -> 60 | U144: ='[1]Псих благополучие 1'!FR144 -> 65 | V144: ='[1]Псих благополучие 1'!FS144 -> 64 | W144: ='[1]Псих благополучие 1'!FT144 -> 375 | X144: ='[1]Псих благополучие 2'!Y144 -> 10 | Y144: ='[1]Псих благополучие 2'!Z144 -> 7.6666667 | Z144: ='[1]Псих благополучие 2'!AA144 -> 10 | AA144: ='[1]Псих благополучие 2'!AB144 -> 10 | AB144: ='[1]Псих благополучие 2'!AC144 -> 10 | AC144: ='[1]Псих благополучие 2'!AD144 -> 10 | AD144: ='[1]Псих благополучие 2'!AE144 -> 9.5625 | AE144: ='[1]Псих благополучие 2'!AF144 -> 0 | ... AG144: ='[1]Псих благополучие 2'!AH144 -> 0
A145: 2 | B145: =[1]Ответы!C145 -> 16 | C145: 2 | D145: ='[1]Отношениек IТ'!AU145 -> 8 | E145: ='[1]Отношениек IТ'!AV145 -> 20 | F145: ='[1]Отношениек IТ'!AW145 -> 3 | G145: ='[1]Отношениек IТ'!AX145 -> 20 | H145: ='[1]Отношениек IТ'!AY145 -> 9 | I145: ='[1]Доверие к ИИ'!Z145 -> 17 | J145: ='[1]Доверие к ИИ'!AA145 -> 17 | K145: ='[1]Доверие к ИИ'!AB145 -> 25 | L145: ='[1]Доверие к ИИ'!AC145 -> 13 | M145: ='[1]Доверие к ИИ'!AD145 -> 15 | N145: ='[1]Доверие к ИИ'!AE145 -> 17 | O145: ='[1]Доверие к ИИ'!AF145 -> 14 | P145: ='[1]Шкала к ИИ'!H145 -> 12 | Q145: ='[1]Псих благополучие 1'!FN145 -> 50 | R145: ='[1]Псих благополучие 1'!FO145 -> 44 | S145: ='[1]Псих благополучие 1'!FP145 -> 35 | T145: ='[1]Псих благополучие 1'!FQ145 -> 61 | U145: ='[1]Псих благополучие 1'!FR145 -> 45 | V145: ='[1]Псих благополучие 1'!FS145 -> 30 | W145: ='[1]Псих благополучие 1'!FT145 -> 265 | X145: ='[1]Псих благополучие 2'!Y145 -> 4.3333333 | Y145: ='[1]Псих благополучие 2'!Z145 -> 7.6666667 | Z145: ='[1]Псих благополучие 2'!AA145 -> 2.6666667 | AA145: ='[1]Псих благополучие 2'!AB145 -> 4.3333333 | AB145: ='[1]Псих благополучие 2'!AC145 -> 4.6666667 | AC145: ='[1]Псих благополучие 2'!AD145 -> 2 | AD145: ='[1]Псих благополучие 2'!AE145 -> 4.5625 | AE145: ='[1]Псих благополучие 2'!AF145 -> 7.6666667 | ... AG145: ='[1]Псих благополучие 2'!AH145 -> 6
A146: 2 | B146: =[1]Ответы!C146 -> 16 | C146: 2 | D146: ='[1]Отношениек IТ'!AU146 -> 26 | E146: ='[1]Отношениек IТ'!AV146 -> 27 | F146: ='[1]Отношениек IТ'!AW146 -> 4 | G146: ='[1]Отношениек IТ'!AX146 -> 21 | H146: ='[1]Отношениек IТ'!AY146 -> 13 | I146: ='[1]Доверие к ИИ'!Z146 -> 22 | J146: ='[1]Доверие к ИИ'!AA146 -> 22 | K146: ='[1]Доверие к ИИ'!AB146 -> 36 | L146: ='[1]Доверие к ИИ'!AC146 -> 24 | M146: ='[1]Доверие к ИИ'!AD146 -> 18 | N146: ='[1]Доверие к ИИ'!AE146 -> 24 | O146: ='[1]Доверие к ИИ'!AF146 -> 14 | P146: ='[1]Шкала к ИИ'!H146 -> 38 | Q146: ='[1]Псих благополучие 1'!FN146 -> 64 | R146: ='[1]Псих благополучие 1'!FO146 -> 58 | S146: ='[1]Псих благополучие 1'!FP146 -> 63 | T146: ='[1]Псих благополучие 1'!FQ146 -> 69 | U146: ='[1]Псих благополучие 1'!FR146 -> 62 | V146: ='[1]Псих благополучие 1'!FS146 -> 68 | W146: ='[1]Псих благополучие 1'!FT146 -> 384 | X146: ='[1]Псих благополучие 2'!Y146 -> 9 | Y146: ='[1]Псих благополучие 2'!Z146 -> 7.3333333 | Z146: ='[1]Псих благополучие 2'!AA146 -> 9.6666667 | AA146: ='[1]Псих благополучие 2'!AB146 -> 7.3333333 | AB146: ='[1]Псих благополучие 2'!AC146 -> 7 | AC146: ='[1]Псих благополучие 2'!AD146 -> 9 | AD146: ='[1]Псих благополучие 2'!AE146 -> 8.125 | AE146: ='[1]Псих благополучие 2'!AF146 -> 4.6666667 | ... AG146: ='[1]Псих благополучие 2'!AH146 -> 2
A147: 2 | B147: =[1]Ответы!C147 -> 17 | C147: 2 | D147: ='[1]Отношениек IТ'!AU147 -> 17 | E147: ='[1]Отношениек IТ'!AV147 -> 18 | F147: ='[1]Отношениек IТ'!AW147 -> 2 | G147: ='[1]Отношениек IТ'!AX147 -> 16 | H147: ='[1]Отношениек IТ'!AY147 -> 9 | I147: ='[1]Доверие к ИИ'!Z147 -> 35 | J147: ='[1]Доверие к ИИ'!AA147 -> 34 | K147: ='[1]Доверие к ИИ'!AB147 -> 36 | L147: ='[1]Доверие к ИИ'!AC147 -> 25 | M147: ='[1]Доверие к ИИ'!AD147 -> 26 | N147: ='[1]Доверие к ИИ'!AE147 -> 29 | O147: ='[1]Доверие к ИИ'!AF147 -> 25 | P147: ='[1]Шкала к ИИ'!H147 -> 30 | Q147: ='[1]Псих благополучие 1'!FN147 -> 42 | R147: ='[1]Псих благополучие 1'!FO147 -> 46 | S147: ='[1]Псих благополучие 1'!FP147 -> 52 | T147: ='[1]Псих благополучие 1'!FQ147 -> 47 | U147: ='[1]Псих благополучие 1'!FR147 -> 51 | V147: ='[1]Псих благополучие 1'!FS147 -> 54 | W147: ='[1]Псих благополучие 1'!FT147 -> 292 | X147: ='[1]Псих благополучие 2'!Y147 -> 4.3333333 | Y147: ='[1]Псих благополучие 2'!Z147 -> 4.6666667 | Z147: ='[1]Псих благополучие 2'!AA147 -> 5 | AA147: ='[1]Псих благополучие 2'!AB147 -> 4 | AB147: ='[1]Псих благополучие 2'!AC147 -> 5 | AC147: ='[1]Псих благополучие 2'!AD147 -> 2 | AD147: ='[1]Псих благополучие 2'!AE147 -> 4.4375 | AE147: ='[1]Псих благополучие 2'!AF147 -> 5 | ... AG147: ='[1]Псих благополучие 2'!AH147 -> 5
A148: 2 | B148: =[1]Ответы!C148 -> 16 | C148: 2 | D148: ='[1]Отношениек IТ'!AU148 -> 28 | E148: ='[1]Отношениек IТ'!AV148 -> 33 | F148: ='[1]Отношениек IТ'!AW148 -> 4 | G148: ='[1]Отношениек IТ'!AX148 -> 13 | H148: ='[1]Отношениек IТ'!AY148 -> 13 | I148: ='[1]Доверие к ИИ'!Z148 -> 17 | J148: ='[1]Доверие к ИИ'!AA148 -> 16 | K148: ='[1]Доверие к ИИ'!AB148 -> 33 | L148: ='[1]Доверие к ИИ'!AC148 -> 17 | M148: ='[1]Доверие к ИИ'!AD148 -> 18 | N148: ='[1]Доверие к ИИ'!AE148 -> 18 | O148: ='[1]Доверие к ИИ'!AF148 -> 13 | P148: ='[1]Шкала к ИИ'!H148 -> 28 | Q148: ='[1]Псих благополучие 1'!FN148 -> 69 | R148: ='[1]Псих благополучие 1'!FO148 -> 58 | S148: ='[1]Псих благополучие 1'!FP148 -> 68 | T148: ='[1]Псих благополучие 1'!FQ148 -> 66 | U148: ='[1]Псих благополучие 1'!FR148 -> 80 | V148: ='[1]Псих благополучие 1'!FS148 -> 67 | W148: ='[1]Псих благополучие 1'!FT148 -> 408 | X148: ='[1]Псих благополучие 2'!Y148 -> 10 | Y148: ='[1]Псих благополучие 2'!Z148 -> 8 | Z148: ='[1]Псих благополучие 2'!AA148 -> 10 | AA148: ='[1]Псих благополучие 2'!AB148 -> 9.6666667 | AB148: ='[1]Псих благополучие 2'!AC148 -> 9 | AC148: ='[1]Псих благополучие 2'!AD148 -> 10 | AD148: ='[1]Псих благополучие 2'!AE148 -> 9.375 | AE148: ='[1]Псих благополучие 2'!AF148 -> 4.6666667 | ... AG148: ='[1]Псих благополучие 2'!AH148 -> 0
... A154: 2 | B154: =[1]Ответы!C154 -> 17 | C154: 2 | D154: ='[1]Отношениек IТ'!AU154 -> 21 | E154: ='[1]Отношениек IТ'!AV154 -> 25 | F154: ='[1]Отношениек IТ'!AW154 -> 4 | G154: ='[1]Отношениек IТ'!AX154 -> 14 | H154: ='[1]Отношениек IТ'!AY154 -> 4 | I154: ='[1]Доверие к ИИ'!Z154 -> 25 | J154: ='[1]Доверие к ИИ'!AA154 -> 28 | K154: ='[1]Доверие к ИИ'!AB154 -> 31 | L154: ='[1]Доверие к ИИ'!AC154 -> 23 | M154: ='[1]Доверие к ИИ'!AD154 -> 20 | N154: ='[1]Доверие к ИИ'!AE154 -> 19 | O154: ='[1]Доверие к ИИ'!AF154 -> 22 | P154: ='[1]Шкала к ИИ'!H154 -> 38 | Q154: ='[1]Псих благополучие 1'!FN154 -> 52 | R154: ='[1]Псих благополучие 1'!FO154 -> 66 | S154: ='[1]Псих благополучие 1'!FP154 -> 67 | T154: ='[1]Псих благополучие 1'!FQ154 -> 58 | U154: ='[1]Псих благополучие 1'!FR154 -> 64 | V154: ='[1]Псих благополучие 1'!FS154 -> 67 | W154: ='[1]Псих благополучие 1'!FT154 -> 374 | X154: ='[1]Псих благополучие 2'!Y154 -> 7.6666667 | Y154: ='[1]Псих благополучие 2'!Z154 -> 7.6666667 | Z154: ='[1]Псих благополучие 2'!AA154 -> 7.6666667 | AA154: ='[1]Псих благополучие 2'!AB154 -> 7.3333333 | AB154: ='[1]Псих благополучие 2'!AC154 -> 8 | AC154: ='[1]Псих благополучие 2'!AD154 -> 7 | AD154: ='[1]Псих благополучие 2'!AE154 -> 7.625 | AE154: ='[1]Псих благополучие 2'!AF154 -> 2.3333333 | ... AG154: ='[1]Псих благополучие 2'!AH154 -> 1

Sheet Описание
A1: Название набора данных: Взаимосвязь психологического благополучия студентов с отношением к современным цифровым технологиям: роль пола и профиля образования
A2: Авторы: Каширсикй Д.В., Амирова Д
A3: Год: 2027
A5: 1. Описание исследования
A6: Набор данных содержит результаты онлайн-опроса, проведённого среди 153 студентов московских вузов в возрасте от 16 до 24 лет (M = 18 лет, SD = 1,4). Выборка включала 88 мужчин и 65 женщин. По профилю обучения выборка была стратифицирована следующим образом: 98 человек (64%) обучались на технологических (IT) специальностях, 55 человек (36%) — на нетехнологических (гуманитарных, социально-экономических, естественно-научных).
A7: Цель исследования — выявить взаимосвязи между психологическим благополучием студентов (включая его эмоциональный компонент) и их отношением к различным аспектам современных цифровых технологий (СЦТ), а также проверить устойчивость этих связей при контроле пола и профиля обучения.
A8: Сбор данных осуществлялся в период с ноября 2024 по март 2025 года с помощью онлайн-опроса на платформе Google Forms. Процедура исследования включала информированное согласие участников, гарантии анонимности и конфиденциальности. Все участники участвовали добровольно, без вознаграждения.
A10: 2. Структура файла
A11: Файл представляет собой электронную таблицу, состоящую из одного листа («Лист1»).
A12: Строка 1 — заголовки столбцов, содержащие ссылки на исходные листы и ячейки первичного файла (в формате ='[1]Имя листа'!Адрес). Эти ссылки указывают на источник данных и не являются содержательными заголовками.
A13: Строки 2–154 — данные 153 участников. Каждая строка соответствует одному респонденту.
A14: Столбцы A–D — социально-демографические и идентификационные переменные:
... A25: 3. Перечень переменных
A26: Столбец | B26: Переменная | C26: Тип | D26: Значения / диапазон
A27: A | B27: ID участника | C27: Числовой | D27: 1–153
A28: B | B28: Возраст | C28: Числовой | D28: 16–24
A29: C | B29: Пол | C29: Категориальный | D29: 1 — мужской, 2 — женский
A30: D | B30: Профиль обучения | C30: Категориальный | D30: 1 — IT, 2 — не-IT
A31: E–I | B31: Шкалы отношения к IT | C31: Числовой | D31: AU–AY исходного листа
A32: J–P | B32: Шкалы доверия к ИИ | C32: Числовой | D32: Z–AF исходного листа
A33: Q | B33: AIAS-4 | C33: Числовой | D33: H исходного листа
A34: R–X | B34: Шкалы психологического благополучия (Рифф) | C34: Числовой | D34: FN–FT исходного листа
A35: Y–AH | B35: Шкалы психологического благополучия (PERMA) | C35: Числовой | D35: Y–AH исходного листа
A37: 4. Использованные методики
A38: Для диагностики психологического и эмоционального благополучия:
A39: 1. Шкала психологического благополучия (ШПБ) К. Рифф в адаптации Шевеленковой и Фесенко (2005). Опросник включает 84 пункта, 6 шкал: Позитивные отношения, Автономия, Управление средой, Личностный рост, Цели в жизни, Самопринятие. Предусмотрен расчёт общего показателя (α Кронбаха = 0,78–0,89).
A40: 2. Русскоязычная версия опросника PERMA-Profiler (адаптация О.М. Исаевой, А.Ю. Акимовой, Е.Н. Волковой, 2022). Методика из 23 пунктов, основана на модели М. Селигмана (Seligman, 2011). Оценивает 5 элементов благополучия: Позитивные эмоции, Вовлечённость, Взаимоотношения, Смысл, Достижения, а также дополнительные шкалы Негативных эмоций, Одиночества, Здоровья и общий показатель Счастья (α Кронбаха = 0,76–0,88).
A41: Для диагностики отношения к современным цифровым технологиям:
A42: 3. Опросник отношения к цифровизации (ООЦ) Д.В. Каширского и А.С. Очеретина. 5 блоков: степень выраженности цифровых навыков; воспринимаемое влияние навыков на эффективность обучения; оценка влияния цифровизации на качество образования; оценка недостатков цифровизации; предпочтения относительно формата обучения (α Кронбаха = 0,72–0,85).
A43: 4. Опросник «Доверие к искусственному интеллекту» (Trust in AI Scale) в адаптации Д.В. Каширского на основе работы Gillath et al. (2021). 7 шкал: Автопилотируемые устройства, ИИ в сфере медицинской помощи, ИИ в межличностных отношениях, Готовность использовать ИИ, Доверие к ИИ, Физическая безопасность, Психологический комфорт при взаимодействии с ИИ (α = 0,71–0,86).
A44: 5. Краткая шкала общего отношения к искусственному интеллекту AIAS-4 (Grassini, 2023) в адаптации Д.В. Каширского. 5 утверждений, 10-балльная шкала Лайкерта (α Кронбаха = 0,84).
A46: 5. Обработка данных
A47: Обработка данных проводилась с использованием программного пакета R (версия 4.3.1) и JASP (версия 0.18.3).
A48: Применённые методы:
A49: описательная статистика;
... A66: Для удобства пользователей ниже приведено соответствие между столбцами файла и шкалами методик:
A67: Столбец | B67: Исходный лист | C67: Исходный столбец | D67: Содержание
A68: A | B68: Ответы | C68: B | D68: ID
A69: B | B69: Ответы | C69: C | D69: Возраст
A70: C | B70: Ответы | C70: D | D70: Пол
...
